Package: diggit Version: 1.38.0 Command: /Library/Frameworks/R.framework/Resources/bin/R CMD build --keep-empty-dirs --no-resave-data diggit StartedAt: 2025-02-03 18:33:24 -0500 (Mon, 03 Feb 2025) EndedAt: 2025-02-03 18:39:08 -0500 (Mon, 03 Feb 2025) EllapsedTime: 343.9 seconds RetCode: 0 Status: OK PackageFile: diggit_1.38.0.tar.gz PackageFileSize: 348.7 KiB