Package: diggit Version: 1.38.0 Command: /Library/Frameworks/R.framework/Resources/bin/R CMD INSTALL diggit StartedAt: 2025-02-03 16:18:27 -0500 (Mon, 03 Feb 2025) EndedAt: 2025-02-03 16:18:57 -0500 (Mon, 03 Feb 2025) EllapsedTime: 29.4 seconds RetCode: 0 Status: OK