Package: diggit Version: 1.38.0 Command: /home/biocbuild/bbs-3.20-bioc/R/bin/R CMD build --keep-empty-dirs --no-resave-data --md5 diggit StartedAt: 2025-02-03 17:12:28 -0500 (Mon, 03 Feb 2025) EndedAt: 2025-02-03 17:14:50 -0500 (Mon, 03 Feb 2025) EllapsedTime: 142.1 seconds RetCode: 0 Status: OK PackageFile: diggit_1.38.0.tar.gz PackageFileSize: 349.8 KiB