Package: diggit Version: 1.38.0 Command: /home/biocbuild/bbs-3.20-bioc/R/bin/R CMD INSTALL diggit StartedAt: 2025-02-03 15:51:00 -0500 (Mon, 03 Feb 2025) EndedAt: 2025-02-03 15:51:13 -0500 (Mon, 03 Feb 2025) EllapsedTime: 13.1 seconds RetCode: 0 Status: OK