Package: diggit Version: 1.38.0 Command: rm -rf diggit.buildbin-libdir && mkdir diggit.buildbin-libdir && F:\biocbuild\bbs-3.20-bioc\R\bin\R.exe CMD INSTALL --build --library=diggit.buildbin-libdir diggit_1.38.0.tar.gz StartedAt: 2025-02-04 08:23:06 -0500 (Tue, 04 Feb 2025) EndedAt: 2025-02-04 08:23:35 -0500 (Tue, 04 Feb 2025) EllapsedTime: 29.2 seconds RetCode: 0 Status: OK PackageFile: diggit_1.38.0.zip PackageFileSize: 464.7 KiB