Package: diggit Version: 1.38.0 Command: chmod a+r diggit -R && F:\biocbuild\bbs-3.20-bioc\R\bin\R.exe CMD build --keep-empty-dirs --no-resave-data diggit StartedAt: 2025-02-03 18:42:36 -0500 (Mon, 03 Feb 2025) EndedAt: 2025-02-03 18:51:55 -0500 (Mon, 03 Feb 2025) EllapsedTime: 559.5 seconds RetCode: 0 Status: OK PackageFile: diggit_1.38.0.tar.gz PackageFileSize: 205.4 KiB