Package: diggit Version: 1.38.0 Command: /home/biocbuild/R/R/bin/R CMD build --keep-empty-dirs --no-resave-data diggit StartedAt: 2025-02-03 23:13:16 -0000 (Mon, 03 Feb 2025) EndedAt: 2025-02-03 23:16:47 -0000 (Mon, 03 Feb 2025) EllapsedTime: 210.1 seconds RetCode: 0 Status: OK PackageFile: diggit_1.38.0.tar.gz PackageFileSize: 339.2 KiB