Package: diggit Version: 1.38.0 Command: /home/biocbuild/R/R/bin/R CMD INSTALL diggit StartedAt: 2025-02-03 21:05:29 -0000 (Mon, 03 Feb 2025) EndedAt: 2025-02-03 21:05:46 -0000 (Mon, 03 Feb 2025) EllapsedTime: 16.8 seconds RetCode: 0 Status: OK