Package: dinoR Version: 1.2.0 Command: /Library/Frameworks/R.framework/Resources/bin/R CMD build --keep-empty-dirs --no-resave-data dinoR StartedAt: 2025-02-03 22:39:50 -0500 (Mon, 03 Feb 2025) EndedAt: 2025-02-03 22:41:16 -0500 (Mon, 03 Feb 2025) EllapsedTime: 86.5 seconds RetCode: 0 Status: OK PackageFile: dinoR_1.2.0.tar.gz PackageFileSize: 3.24 MiB