Package: dinoR Version: 1.2.0 Command: rm -rf dinoR.buildbin-libdir && mkdir dinoR.buildbin-libdir && /Users/biocbuild/BBS/utils/build-universal.sh dinoR_1.2.0.tar.gz /Library/Frameworks/R.framework/Resources/bin/R dinoR.buildbin-libdir StartedAt: 2025-01-31 12:42:01 -0500 (Fri, 31 Jan 2025) EndedAt: 2025-01-31 12:42:57 -0500 (Fri, 31 Jan 2025) EllapsedTime: 56.4 seconds RetCode: 0 Status: OK PackageFile: dinoR_1.2.0.tgz PackageFileSize: 3.086 MiB