Package: dinoR Version: 1.2.0 Command: /Library/Frameworks/R.framework/Resources/bin/R CMD INSTALL dinoR StartedAt: 2025-02-03 15:56:51 -0500 (Mon, 03 Feb 2025) EndedAt: 2025-02-03 15:57:48 -0500 (Mon, 03 Feb 2025) EllapsedTime: 56.8 seconds RetCode: 0 Status: OK