Package: dinoR Version: 1.2.0 Command: /home/biocbuild/R/R/bin/R CMD build --keep-empty-dirs --no-resave-data dinoR StartedAt: 2025-02-10 23:01:34 -0000 (Mon, 10 Feb 2025) EndedAt: 2025-02-10 23:02:58 -0000 (Mon, 10 Feb 2025) EllapsedTime: 84.0 seconds RetCode: 0 Status: OK PackageFile: dinoR_1.2.0.tar.gz PackageFileSize: 2.9 MiB