Package: dir.expiry Version: 1.14.0 Command: /Library/Frameworks/R.framework/Resources/bin/R CMD INSTALL dir.expiry StartedAt: 2025-02-10 15:02:58 -0500 (Mon, 10 Feb 2025) EndedAt: 2025-02-10 15:03:14 -0500 (Mon, 10 Feb 2025) EllapsedTime: 15.8 seconds RetCode: 0 Status: OK