Package: dir.expiry Version: 1.14.0 Command: F:\biocbuild\bbs-3.20-bioc\R\bin\R.exe CMD INSTALL dir.expiry StartedAt: 2025-02-03 15:30:59 -0500 (Mon, 03 Feb 2025) EndedAt: 2025-02-03 15:31:11 -0500 (Mon, 03 Feb 2025) EllapsedTime: 12.7 seconds RetCode: 0 Status: OK