Package: dir.expiry Version: 1.14.0 Command: /home/biocbuild/R/R/bin/R CMD INSTALL dir.expiry StartedAt: 2025-02-03 20:21:06 -0000 (Mon, 03 Feb 2025) EndedAt: 2025-02-03 20:21:20 -0000 (Mon, 03 Feb 2025) EllapsedTime: 14.5 seconds RetCode: 0 Status: OK