Package: distinct Version: 1.18.0 Command: rm -rf distinct.buildbin-libdir && mkdir distinct.buildbin-libdir && /Users/biocbuild/BBS/utils/build-universal.sh distinct_1.18.0.tar.gz /Library/Frameworks/R.framework/Resources/bin/R distinct.buildbin-libdir StartedAt: 2025-02-12 14:51:35 -0500 (Wed, 12 Feb 2025) EndedAt: 2025-02-12 14:52:46 -0500 (Wed, 12 Feb 2025) EllapsedTime: 71.2 seconds RetCode: 0 Status: OK PackageFile: distinct_1.18.0.tgz PackageFileSize: 2.014 MiB