Package: distinct Version: 1.18.0 Command: /Library/Frameworks/R.framework/Resources/bin/R CMD build --keep-empty-dirs --no-resave-data distinct StartedAt: 2025-02-10 18:30:21 -0500 (Mon, 10 Feb 2025) EndedAt: 2025-02-10 18:36:56 -0500 (Mon, 10 Feb 2025) EllapsedTime: 394.7 seconds RetCode: 0 Status: OK PackageFile: distinct_1.18.0.tar.gz PackageFileSize: 1.86 MiB