Package: distinct Version: 1.18.0 Command: /Library/Frameworks/R.framework/Resources/bin/R CMD INSTALL distinct StartedAt: 2025-02-03 16:36:15 -0500 (Mon, 03 Feb 2025) EndedAt: 2025-02-03 16:38:30 -0500 (Mon, 03 Feb 2025) EllapsedTime: 135.4 seconds RetCode: 0 Status: OK