Package: distinct Version: 1.18.0 Command: chmod a+r distinct -R && F:\biocbuild\bbs-3.20-bioc\R\bin\R.exe CMD build --keep-empty-dirs --no-resave-data distinct StartedAt: 2025-02-03 18:43:35 -0500 (Mon, 03 Feb 2025) EndedAt: 2025-02-03 18:47:51 -0500 (Mon, 03 Feb 2025) EllapsedTime: 256.2 seconds RetCode: 0 Status: OK PackageFile: distinct_1.18.0.tar.gz PackageFileSize: 1.468 MiB