Package: distinct Version: 1.18.0 Command: /home/biocbuild/R/R/bin/R CMD INSTALL distinct StartedAt: 2025-02-03 21:16:09 -0000 (Mon, 03 Feb 2025) EndedAt: 2025-02-03 21:17:45 -0000 (Mon, 03 Feb 2025) EllapsedTime: 96.5 seconds RetCode: 0 Status: OK