Package: dittoSeq Version: 1.18.0 Command: /Library/Frameworks/R.framework/Resources/bin/R CMD INSTALL dittoSeq StartedAt: 2025-02-03 15:29:47 -0500 (Mon, 03 Feb 2025) EndedAt: 2025-02-03 15:30:51 -0500 (Mon, 03 Feb 2025) EllapsedTime: 63.7 seconds RetCode: 0 Status: OK