Package: dittoSeq Version: 1.18.0 Command: rm -rf dittoSeq.buildbin-libdir && mkdir dittoSeq.buildbin-libdir && F:\biocbuild\bbs-3.20-bioc\R\bin\R.exe CMD INSTALL --build --library=dittoSeq.buildbin-libdir dittoSeq_1.18.0.tar.gz StartedAt: 2025-01-31 08:33:24 -0500 (Fri, 31 Jan 2025) EndedAt: 2025-01-31 08:34:13 -0500 (Fri, 31 Jan 2025) EllapsedTime: 48.9 seconds RetCode: 0 Status: OK PackageFile: dittoSeq_1.18.0.zip PackageFileSize: 2.027 MiB