Package: dittoSeq Version: 1.18.0 Command: /home/biocbuild/R/R/bin/R CMD build --keep-empty-dirs --no-resave-data dittoSeq StartedAt: 2025-02-03 23:14:18 -0000 (Mon, 03 Feb 2025) EndedAt: 2025-02-03 23:16:55 -0000 (Mon, 03 Feb 2025) EllapsedTime: 157.1 seconds RetCode: 0 Status: OK PackageFile: dittoSeq_1.18.0.tar.gz PackageFileSize: 2.497 MiB