Package: dks Version: 1.52.0 Command: rm -rf dks.buildbin-libdir && mkdir dks.buildbin-libdir && F:\biocbuild\bbs-3.20-bioc\R\bin\R.exe CMD INSTALL --build --library=dks.buildbin-libdir dks_1.52.0.tar.gz StartedAt: 2025-02-04 08:23:31 -0500 (Tue, 04 Feb 2025) EndedAt: 2025-02-04 08:23:41 -0500 (Tue, 04 Feb 2025) EllapsedTime: 9.3 seconds RetCode: 0 Status: OK PackageFile: dks_1.52.0.zip PackageFileSize: 456.2 KiB