Package: dks Version: 1.52.0 Command: F:\biocbuild\bbs-3.20-bioc\R\bin\R.exe CMD check --no-multiarch --install=check:dks.install-out.txt --library=F:\biocbuild\bbs-3.20-bioc\R\library --no-vignettes --timings dks_1.52.0.tar.gz StartedAt: 2025-02-04 01:18:27 -0500 (Tue, 04 Feb 2025) EndedAt: 2025-02-04 01:19:01 -0500 (Tue, 04 Feb 2025) EllapsedTime: 33.9 seconds RetCode: 0 Status: OK CheckDir: dks.Rcheck Warnings: 0