Package: dks Version: 1.52.0 Command: /home/biocbuild/R/R/bin/R CMD check --install=check:dks.install-out.txt --library=/home/biocbuild/R/R/site-library --no-vignettes --timings dks_1.52.0.tar.gz StartedAt: 2025-02-11 05:43:50 -0000 (Tue, 11 Feb 2025) EndedAt: 2025-02-11 05:44:14 -0000 (Tue, 11 Feb 2025) EllapsedTime: 24.0 seconds RetCode: 0 Status: OK CheckDir: dks.Rcheck Warnings: 0