Package: dks Version: 1.52.0 Command: /home/biocbuild/R/R/bin/R CMD INSTALL dks StartedAt: 2025-02-03 20:23:02 -0000 (Mon, 03 Feb 2025) EndedAt: 2025-02-03 20:23:46 -0000 (Mon, 03 Feb 2025) EllapsedTime: 44.0 seconds RetCode: 0 Status: OK