Package: dmrseq Version: 1.26.0 Command: rm -rf dmrseq.buildbin-libdir && mkdir dmrseq.buildbin-libdir && /Users/biocbuild/BBS/utils/build-universal.sh dmrseq_1.26.0.tar.gz /Library/Frameworks/R.framework/Resources/bin/R dmrseq.buildbin-libdir StartedAt: 2025-02-04 12:51:06 -0500 (Tue, 04 Feb 2025) EndedAt: 2025-02-04 12:52:59 -0500 (Tue, 04 Feb 2025) EllapsedTime: 112.7 seconds RetCode: 0 Status: OK PackageFile: dmrseq_1.26.0.tgz PackageFileSize: 4.97 MiB