Package: dmrseq Version: 1.26.0 Command: /Library/Frameworks/R.framework/Resources/bin/R CMD INSTALL dmrseq StartedAt: 2025-01-30 15:47:43 -0500 (Thu, 30 Jan 2025) EndedAt: 2025-01-30 15:49:26 -0500 (Thu, 30 Jan 2025) EllapsedTime: 102.9 seconds RetCode: 0 Status: OK