Package: dmrseq Version: 1.26.0 Command: /home/biocbuild/R/R/bin/R CMD INSTALL dmrseq StartedAt: 2025-02-10 20:35:23 -0000 (Mon, 10 Feb 2025) EndedAt: 2025-02-10 20:36:24 -0000 (Mon, 10 Feb 2025) EllapsedTime: 60.9 seconds RetCode: 0 Status: OK