Package: dominoSignal Version: 1.0.0 Command: rm -rf dominoSignal.buildbin-libdir && mkdir dominoSignal.buildbin-libdir && /Users/biocbuild/BBS/utils/build-universal.sh dominoSignal_1.0.0.tar.gz /Library/Frameworks/R.framework/Resources/bin/R dominoSignal.buildbin-libdir StartedAt: 2025-02-05 15:39:26 -0500 (Wed, 05 Feb 2025) EndedAt: 2025-02-05 15:39:58 -0500 (Wed, 05 Feb 2025) EllapsedTime: 31.6 seconds RetCode: 0 Status: OK PackageFile: dominoSignal_1.0.0.tgz PackageFileSize: 1.458 MiB