Package: dominoSignal Version: 1.0.0 Command: /Library/Frameworks/R.framework/Resources/bin/R CMD build --keep-empty-dirs --no-resave-data dominoSignal StartedAt: 2025-02-03 22:47:12 -0500 (Mon, 03 Feb 2025) EndedAt: 2025-02-03 22:49:51 -0500 (Mon, 03 Feb 2025) EllapsedTime: 159.1 seconds RetCode: 0 Status: OK PackageFile: dominoSignal_1.0.0.tar.gz PackageFileSize: 1.062 MiB