Package: dominoSignal Version: 1.0.0 Command: /Library/Frameworks/R.framework/Resources/bin/R CMD INSTALL dominoSignal StartedAt: 2025-02-03 18:09:20 -0500 (Mon, 03 Feb 2025) EndedAt: 2025-02-03 18:09:47 -0500 (Mon, 03 Feb 2025) EllapsedTime: 27.8 seconds RetCode: 0 Status: OK