Package: dominoSignal Version: 1.0.0 Command: /Library/Frameworks/R.framework/Resources/bin/R CMD INSTALL dominoSignal StartedAt: 2025-02-10 16:38:28 -0500 (Mon, 10 Feb 2025) EndedAt: 2025-02-10 16:39:20 -0500 (Mon, 10 Feb 2025) EllapsedTime: 52.3 seconds RetCode: 0 Status: OK