Package: dominoSignal Version: 1.0.0 Command: /home/biocbuild/bbs-3.20-bioc/R/bin/R CMD check --install=check:dominoSignal.install-out.txt --library=/home/biocbuild/bbs-3.20-bioc/R/site-library --timings dominoSignal_1.0.0.tar.gz StartedAt: 2025-02-03 21:57:12 -0500 (Mon, 03 Feb 2025) EndedAt: 2025-02-03 22:01:36 -0500 (Mon, 03 Feb 2025) EllapsedTime: 264.2 seconds RetCode: 0 Status: OK CheckDir: dominoSignal.Rcheck Warnings: 0