Package: dominoSignal Version: 1.0.0 Command: rm -rf dominoSignal.buildbin-libdir && mkdir dominoSignal.buildbin-libdir && F:\biocbuild\bbs-3.20-bioc\R\bin\R.exe CMD INSTALL --build --library=dominoSignal.buildbin-libdir dominoSignal_1.0.0.tar.gz StartedAt: 2025-02-04 08:24:11 -0500 (Tue, 04 Feb 2025) EndedAt: 2025-02-04 08:25:15 -0500 (Tue, 04 Feb 2025) EllapsedTime: 64.1 seconds RetCode: 0 Status: OK PackageFile: dominoSignal_1.0.0.zip PackageFileSize: 1.012 MiB