Package: dominoSignal Version: 1.0.0 Command: chmod a+r dominoSignal -R && F:\biocbuild\bbs-3.20-bioc\R\bin\R.exe CMD build --keep-empty-dirs --no-resave-data dominoSignal StartedAt: 2025-02-03 18:45:52 -0500 (Mon, 03 Feb 2025) EndedAt: 2025-02-03 18:49:06 -0500 (Mon, 03 Feb 2025) EllapsedTime: 194.1 seconds RetCode: 0 Status: OK PackageFile: dominoSignal_1.0.0.tar.gz PackageFileSize: 630.4 KiB