Package: dominoSignal Version: 1.0.0 Command: F:\biocbuild\bbs-3.20-bioc\R\bin\R.exe CMD INSTALL dominoSignal StartedAt: 2025-02-03 16:17:47 -0500 (Mon, 03 Feb 2025) EndedAt: 2025-02-03 16:18:46 -0500 (Mon, 03 Feb 2025) EllapsedTime: 58.6 seconds RetCode: 0 Status: OK