Package: dominoSignal Version: 1.0.0 Command: /home/biocbuild/R/R/bin/R CMD build --keep-empty-dirs --no-resave-data dominoSignal StartedAt: 2025-02-03 23:16:39 -0000 (Mon, 03 Feb 2025) EndedAt: 2025-02-03 23:29:29 -0000 (Mon, 03 Feb 2025) EllapsedTime: 770.3 seconds RetCode: 0 Status: OK PackageFile: dominoSignal_1.0.0.tar.gz PackageFileSize: 624.7 KiB