Package: doppelgangR Version: 1.34.0 Command: /Library/Frameworks/R.framework/Resources/bin/R CMD INSTALL doppelgangR StartedAt: 2025-02-03 17:11:38 -0500 (Mon, 03 Feb 2025) EndedAt: 2025-02-03 17:12:15 -0500 (Mon, 03 Feb 2025) EllapsedTime: 37.4 seconds RetCode: 0 Status: OK