Package: doppelgangR Version: 1.34.0 Command: /Library/Frameworks/R.framework/Resources/bin/R CMD build --keep-empty-dirs --no-resave-data doppelgangR StartedAt: 2025-02-03 18:38:41 -0500 (Mon, 03 Feb 2025) EndedAt: 2025-02-03 18:41:19 -0500 (Mon, 03 Feb 2025) EllapsedTime: 157.7 seconds RetCode: 0 Status: OK PackageFile: doppelgangR_1.34.0.tar.gz PackageFileSize: 462.8 KiB