Package: doppelgangR Version: 1.34.0 Command: /Library/Frameworks/R.framework/Resources/bin/R CMD check --install=check:doppelgangR.install-out.txt --library=/Library/Frameworks/R.framework/Resources/library --no-vignettes --timings doppelgangR_1.34.0.tar.gz StartedAt: 2025-02-04 02:58:33 -0500 (Tue, 04 Feb 2025) EndedAt: 2025-02-04 03:09:26 -0500 (Tue, 04 Feb 2025) EllapsedTime: 653.3 seconds RetCode: 0 Status: OK CheckDir: doppelgangR.Rcheck Warnings: 0