Package: doppelgangR Version: 1.34.0 Command: /home/biocbuild/bbs-3.20-bioc/R/bin/R CMD check --install=check:doppelgangR.install-out.txt --library=/home/biocbuild/bbs-3.20-bioc/R/site-library --timings doppelgangR_1.34.0.tar.gz StartedAt: 2025-02-03 21:57:21 -0500 (Mon, 03 Feb 2025) EndedAt: 2025-02-03 22:02:15 -0500 (Mon, 03 Feb 2025) EllapsedTime: 294.3 seconds RetCode: 0 Status: OK CheckDir: doppelgangR.Rcheck Warnings: 0