Package: doppelgangR Version: 1.34.0 Command: /home/biocbuild/R/R/bin/R CMD INSTALL doppelgangR StartedAt: 2025-02-03 21:06:15 -0000 (Mon, 03 Feb 2025) EndedAt: 2025-02-03 21:06:55 -0000 (Mon, 03 Feb 2025) EllapsedTime: 40.4 seconds RetCode: 0 Status: OK