Package: dreamlet Version: 1.4.1 Command: rm -rf dreamlet.buildbin-libdir && mkdir dreamlet.buildbin-libdir && /Users/biocbuild/BBS/utils/build-universal.sh dreamlet_1.4.1.tar.gz /Library/Frameworks/R.framework/Resources/bin/R dreamlet.buildbin-libdir StartedAt: 2025-02-05 15:39:58 -0500 (Wed, 05 Feb 2025) EndedAt: 2025-02-05 15:41:07 -0500 (Wed, 05 Feb 2025) EllapsedTime: 69.5 seconds RetCode: 0 Status: OK PackageFile: dreamlet_1.4.1.tgz PackageFileSize: 4.944 MiB