Package: dreamlet Version: 1.4.1 Command: /Library/Frameworks/R.framework/Resources/bin/R CMD build --keep-empty-dirs --no-resave-data dreamlet StartedAt: 2025-02-03 22:49:49 -0500 (Mon, 03 Feb 2025) EndedAt: 2025-02-03 22:59:16 -0500 (Mon, 03 Feb 2025) EllapsedTime: 567.0 seconds RetCode: 0 Status: OK PackageFile: dreamlet_1.4.1.tar.gz PackageFileSize: 4.41 MiB