Package: dreamlet Version: 1.4.1 Command: /home/biocbuild/R/R/bin/R CMD build --keep-empty-dirs --no-resave-data dreamlet StartedAt: 2024-11-20 00:24:48 -0000 (Wed, 20 Nov 2024) EndedAt: 2024-11-20 00:35:09 -0000 (Wed, 20 Nov 2024) EllapsedTime: 620.8 seconds RetCode: 0 Status: OK PackageFile: dreamlet_1.4.1.tar.gz PackageFileSize: 3.483 MiB