Package: dreamlet Version: 1.4.1 Command: /Library/Frameworks/R.framework/Resources/bin/R CMD build --keep-empty-dirs --no-resave-data dreamlet StartedAt: 2025-02-03 18:39:44 -0500 (Mon, 03 Feb 2025) EndedAt: 2025-02-03 18:55:26 -0500 (Mon, 03 Feb 2025) EllapsedTime: 942.9 seconds RetCode: 0 Status: OK PackageFile: dreamlet_1.4.1.tar.gz PackageFileSize: 4.404 MiB