Package: dreamlet Version: 1.4.1 Command: /Library/Frameworks/R.framework/Resources/bin/R CMD check --install=check:dreamlet.install-out.txt --library=/Library/Frameworks/R.framework/Resources/library --no-vignettes --timings dreamlet_1.4.1.tar.gz StartedAt: 2025-02-04 03:01:03 -0500 (Tue, 04 Feb 2025) EndedAt: 2025-02-04 03:26:45 -0500 (Tue, 04 Feb 2025) EllapsedTime: 1542.5 seconds RetCode: 0 Status: OK CheckDir: dreamlet.Rcheck Warnings: 0