Package: dreamlet Version: 1.4.1 Command: /home/biocbuild/bbs-3.20-bioc/R/bin/R CMD build --keep-empty-dirs --no-resave-data --md5 dreamlet StartedAt: 2025-02-03 17:15:27 -0500 (Mon, 03 Feb 2025) EndedAt: 2025-02-03 17:21:36 -0500 (Mon, 03 Feb 2025) EllapsedTime: 369.5 seconds RetCode: 0 Status: OK PackageFile: dreamlet_1.4.1.tar.gz PackageFileSize: 4.345 MiB